View In:
ArcGIS JavaScript
ArcGIS Online Map Viewer
ArcGIS Earth
ArcMap
View Footprint In:
ArcGIS Online Map Viewer
Service Description: 3D/terregn_liten_dokken
Name: 3D/terregn_liten_dokken
Description:
Single Fused Map Cache: false
Extent:
XMin: 295067.69999999995
YMin: 6698654.330000001
XMax: 298795.29999999923
YMax: 6702402.53
Spatial Reference: 25832
(25832)
Initial Extent:
XMin: 295067.69999999995
YMin: 6698654.330000001
XMax: 298795.29999999923
YMax: 6702402.53
Spatial Reference: 25832
(25832)
Full Extent:
XMin: 295067.69999999995
YMin: 6698654.330000001
XMax: 298795.29999999923
YMax: 6702402.53
Spatial Reference: 25832
(25832)
Pixel Size X: 0.19999999999996126
Pixel Size Y: 0.19999999999996024
Band Count: 1
Pixel Type: F32
RasterFunction Infos: {"rasterFunctionInfos": [{
"name": "None",
"description": "",
"help": ""
}]}
Mensuration Capabilities: Basic
Has Histograms: true
Has Colormap: false
Has Multi Dimensions : false
Rendering Rule:
Min Scale: 81920000
Max Scale: 312.5
Min LOD: 0
Max LOD: 18
Copyright Text:
Service Data Type: esriImageServiceDataTypeGeneric
Min Values: -6
Max Values: 268
Mean Values: 19.694332111424316
Standard Deviation Values: 39.35808783067036
Object ID Field:
Fields:
None
Default Mosaic Method: Center
Allowed Mosaic Methods:
SortField:
SortValue: null
Mosaic Operator: First
Default Compression Quality: 75
Default Resampling Method: Bilinear
Max Record Count: null
Max Image Height: 4100
Max Image Width: 15000
Max Download Image Count: null
Max Mosaic Image Count: null
Allow Raster Function: true
Allow Copy: true
Allow Analysis: true
Allow Compute TiePoints: false
Supports Statistics: false
Supports Advanced Queries: false
Use StandardizedQueries: true
Raster Type Infos:
Name: Raster Dataset
Description: Supports all ArcGIS Raster Datasets
Help:
Has Raster Attribute Table: false
Edit Fields Info: null
Ownership Based AccessControl For Rasters: null
Child Resources:
Info
Histograms
Statistics
Key Properties
Legend
Raster Function Infos
Supported Operations:
Export Image
Identify
Measure
Compute Histograms
Compute Statistics Histograms
Get Samples
Compute Class Statistics
Query Boundary
Compute Pixel Location
Compute Angles
Validate
Project