<?xml version="1.0" encoding="UTF-8" standalone="no"?>
<metadata xml:lang="nb">
  <Esri>
    <CreaDate>20180326</CreaDate>
    <CreaTime>08464000</CreaTime>
    <ArcGISFormat>1.0</ArcGISFormat>
    <SyncOnce>FALSE</SyncOnce>
    <DataProperties>
      <lineage>
        <Process Date="20180326" Time="084640" ToolSource="c:\program files (x86)\arcgis\desktop10.5\ArcToolbox\Toolboxes\Data Management Tools.tbx\ChangePrivileges">ChangePrivileges C:\VISGI\DB\gisdata@egdbprod.sde\EGDBPROD.GISDATA.Histkart1772;C:\VISGI\DB\gisdata@egdbprod.sde\EGDBPROD.GISDATA.Histkart1848;C:\VISGI\DB\gisdata@egdbprod.sde\EGDBPROD.GISDATA.Histkart1856_60;C:\VISGI\DB\gisdata@egdbprod.sde\EGDBPROD.GISDATA.Histkart1864;C:\VISGI\DB\gisdata@egdbprod.sde\EGDBPROD.GISDATA.Histkart1867;C:\VISGI\DB\gisdata@egdbprod.sde\EGDBPROD.GISDATA.Histkart1880;C:\VISGI\DB\gisdata@egdbprod.sde\EGDBPROD.GISDATA.Histkart1883;C:\VISGI\DB\gisdata@egdbprod.sde\EGDBPROD.GISDATA.Histkart1913;C:\VISGI\DB\gisdata@egdbprod.sde\EGDBPROD.GISDATA.Histkart1957 GISReader GRANT #</Process>
        <Process Date="20181219" Time="084954" ToolSource="c:\program files (x86)\arcgis\desktop10.5\ArcToolbox\Toolboxes\Data Management Tools.tbx\DefineMosaicDatasetNoData">DefineMosaicDatasetNoData "Database Connections\gisdata@egdbprod.sde\EGDBPROD.GISDATA.Histkart1856_60" 3 "BAND_1 255;BAND_2 255;BAND_3 255" # # NO_COMPOSITE_NODATA</Process>
        <Process Date="20230116" Time="142602" ToolSource="c:\program files (x86)\arcgis\desktop10.5\ArcToolbox\Toolboxes\Data Management Tools.tbx\DefineOverviews">DefineOverviews C:\VISGI\DB\gisdata@egdbprod.sde\EGDBPROD.GISDATA.Histkart1856_60 # # "286628,582 6682639,7231 316021,594 6717429,138" # # 5120 5120 3 NO_FORCE_OVERVIEW_TILES BILINEAR JPEG 80</Process>
        <Process Date="20230116" Time="142647" ToolSource="c:\program files (x86)\arcgis\desktop10.5\ArcToolbox\Toolboxes\Data Management Tools.tbx\BuildOverviews">BuildOverviews C:\VISGI\DB\gisdata@egdbprod.sde\EGDBPROD.GISDATA.Histkart1856_60 # DEFINE_MISSING_TILES GENERATE_OVERVIEWS GENERATE_MISSING_IMAGES REGENERATE_STALE_IMAGES</Process>
      </lineage>
      <itemProps>
        <itemName Sync="TRUE">EGDBPROD.GISDATA.Histkart1856_60</itemName>
        <itemLocation>
          <linkage Sync="TRUE">Server=visgidb.adm.bgo; Service=sde:sqlserver:visgidb.adm.bgo\i1; Database=EGDBPROD; User=GISDATA; Version=sde.DEFAULT</linkage>
          <protocol Sync="TRUE">ArcSDE Connection</protocol>
        </itemLocation>
        <nativeExtBox>
          <westBL Sync="TRUE">286628.582000</westBL>
          <eastBL Sync="TRUE">316021.583918</eastBL>
          <southBL Sync="TRUE">6682639.723075</southBL>
          <northBL Sync="TRUE">6717429.138000</northBL>
          <exTypeCode Sync="TRUE">1</exTypeCode>
        </nativeExtBox>
      </itemProps>
      <coordRef>
        <type Sync="TRUE">Projected</type>
        <geogcsn Sync="TRUE">GCS_ETRS_1989</geogcsn>
        <csUnits Sync="TRUE">Linear Unit: Meter (1.000000)</csUnits>
        <projcsn Sync="TRUE">ETRS_1989_UTM_Zone_32N</projcsn>
        <peXml Sync="TRUE">&lt;ProjectedCoordinateSystem xsi:type='typens:ProjectedCoordinateSystem' xmlns:xsi='http://www.w3.org/2001/XMLSchema-instance' xmlns:xs='http://www.w3.org/2001/XMLSchema' xmlns:typens='http://www.esri.com/schemas/ArcGIS/10.5'&gt;&lt;WKT&gt;PROJCS[&amp;quot;ETRS_1989_UTM_Zone_32N&amp;quot;,GEOGCS[&amp;quot;GCS_ETRS_1989&amp;quot;,DATUM[&amp;quot;D_ETRS_1989&amp;quot;,SPHEROID[&amp;quot;GRS_1980&amp;quot;,6378137.0,298.257222101]],PRIMEM[&amp;quot;Greenwich&amp;quot;,0.0],UNIT[&amp;quot;Degree&amp;quot;,0.0174532925199433]],PROJECTION[&amp;quot;Transverse_Mercator&amp;quot;],PARAMETER[&amp;quot;False_Easting&amp;quot;,500000.0],PARAMETER[&amp;quot;False_Northing&amp;quot;,0.0],PARAMETER[&amp;quot;Central_Meridian&amp;quot;,9.0],PARAMETER[&amp;quot;Scale_Factor&amp;quot;,0.9996],PARAMETER[&amp;quot;Latitude_Of_Origin&amp;quot;,0.0],UNIT[&amp;quot;Meter&amp;quot;,1.0],AUTHORITY[&amp;quot;EPSG&amp;quot;,25832]]&lt;/WKT&gt;&lt;XOrigin&gt;-5120900&lt;/XOrigin&gt;&lt;YOrigin&gt;-9998100&lt;/YOrigin&gt;&lt;XYScale&gt;450445547.3910538&lt;/XYScale&gt;&lt;ZOrigin&gt;-100000&lt;/ZOrigin&gt;&lt;ZScale&gt;10000&lt;/ZScale&gt;&lt;MOrigin&gt;-100000&lt;/MOrigin&gt;&lt;MScale&gt;10000&lt;/MScale&gt;&lt;XYTolerance&gt;0.001&lt;/XYTolerance&gt;&lt;ZTolerance&gt;0.001&lt;/ZTolerance&gt;&lt;MTolerance&gt;0.001&lt;/MTolerance&gt;&lt;HighPrecision&gt;true&lt;/HighPrecision&gt;&lt;WKID&gt;25832&lt;/WKID&gt;&lt;LatestWKID&gt;25832&lt;/LatestWKID&gt;&lt;/ProjectedCoordinateSystem&gt;</peXml>
      </coordRef>
      <RasterProperties>
        <General>
          <PixelDepth Sync="TRUE">8</PixelDepth>
          <HasColormap Sync="TRUE">FALSE</HasColormap>
          <CompressionType Sync="TRUE">None</CompressionType>
          <NumBands Sync="TRUE">3</NumBands>
          <Format Sync="TRUE">AMD</Format>
          <HasPyramids Sync="TRUE">TRUE</HasPyramids>
          <SourceType Sync="TRUE">continuous</SourceType>
          <PixelType Sync="TRUE">unsigned integer</PixelType>
          <NoDataValue Sync="TRUE"/>
        </General>
        <Properties>
          <MaxImageHeight Sync="TRUE">4100</MaxImageHeight>
          <MaxImageWidth Sync="TRUE">15000</MaxImageWidth>
          <MaxRecordCount Sync="TRUE">1000</MaxRecordCount>
          <MaxDownloadImageCount Sync="TRUE">20</MaxDownloadImageCount>
          <MaxDownloadSizeLimit Sync="TRUE">2048</MaxDownloadSizeLimit>
          <MaxMosaicImageCount Sync="TRUE">20</MaxMosaicImageCount>
          <DefaultCompressionQuality Sync="TRUE">75</DefaultCompressionQuality>
          <DefaultCompressionTolerance Sync="TRUE">0,01</DefaultCompressionTolerance>
          <BlendWidth Sync="TRUE">10</BlendWidth>
          <ViewpointSpacingX Sync="TRUE">600</ViewpointSpacingX>
          <ViewpointSpacingY Sync="TRUE">300</ViewpointSpacingY>
          <AllowedItemMetadata Sync="TRUE">Basic</AllowedItemMetadata>
          <DefaultResamplingMethod Sync="TRUE">1</DefaultResamplingMethod>
          <AllowedMosaicMethods Sync="TRUE">NorthWest,Center,LockRaster,ByAttribute,Nadir,Viewpoint,Seamline,None</AllowedMosaicMethods>
          <AllowedCompressions Sync="TRUE">None,JPEG,LZ77,LERC</AllowedCompressions>
          <AllowedMensurationCapabilities Sync="TRUE">None</AllowedMensurationCapabilities>
          <AvailableMensurationCapabilities Sync="TRUE">None,Basic,Base-Top Height,Top-Top Shadow Height,Base-Top Shadow Height,3D</AvailableMensurationCapabilities>
          <ClipToBoundary Sync="TRUE">-1</ClipToBoundary>
          <FootprintMayContainNoData Sync="TRUE">-1</FootprintMayContainNoData>
          <CellSizeTolerance Sync="TRUE">0,8</CellSizeTolerance>
          <MinimumPixelContribution Sync="TRUE">1</MinimumPixelContribution>
          <AvailableMosaicMethods Sync="TRUE">NorthWest,Center,LockRaster,ByAttribute,Nadir,Viewpoint,Seamline,None</AvailableMosaicMethods>
          <AvailableCompressionMethods Sync="TRUE">None,JPEG,LZ77,LERC</AvailableCompressionMethods>
          <AvailableItemMetadataLevels Sync="TRUE">None,Basic,Full</AvailableItemMetadataLevels>
          <ConfigKeyword Sync="TRUE"/>
          <BandDefinitionKeyword Sync="TRUE">NaturalColor</BandDefinitionKeyword>
          <AllowedFields Sync="TRUE">Name,MinPS,MaxPS,LowPS,HighPS,Tag,GroupName,ProductName,CenterX,CenterY,ZOrder,Shape.STArea(),Shape.STLength()</AllowedFields>
          <MaxCellSize Sync="TRUE">170,2338488</MaxCellSize>
          <LowCellSize Sync="TRUE">2,12792311</LowCellSize>
          <HighCellSize Sync="TRUE">17,02338488</HighCellSize>
          <ApplyColorCorrection Sync="TRUE">0</ApplyColorCorrection>
          <TimeStamp.RemoveItems Sync="TRUE">44942,5559481481</TimeStamp.RemoveItems>
          <TimeStamp.UpdateExtent Sync="TRUE">44942,555966412</TimeStamp.UpdateExtent>
        </Properties>
        <Functions Sync="TRUE">
          <Function Description="Performs on-the-fly mosaic on a raster catalog." Name="Mosaic Function"/>
        </Functions>
      </RasterProperties>
    </DataProperties>
    <SyncDate>20230116</SyncDate>
    <SyncTime>14245300</SyncTime>
    <ModDate>20230116</ModDate>
    <ModTime>14245300</ModTime>
  </Esri>
  <dataIdInfo>
    <envirDesc Sync="TRUE"> Version 6.2 (Build 9200) ; Esri ArcGIS 10.5.1.7333</envirDesc>
    <dataLang>
      <languageCode Sync="TRUE" value="nob"/>
      <countryCode Sync="TRUE" value="NOR"/>
    </dataLang>
    <idCitation>
      <resTitle Sync="TRUE">Historiske kart 1856-60</resTitle>
      <presForm>
        <PresFormCd Sync="TRUE" value="005"/>
      </presForm>
    </idCitation>
    <spatRpType>
      <SpatRepTypCd Sync="TRUE" value="002"/>
    </spatRpType>
    <dataExt>
      <geoEle>
        <GeoBndBox esriExtentType="search">
          <exTypeCode Sync="TRUE">1</exTypeCode>
          <westBL Sync="TRUE">5.109982</westBL>
          <eastBL Sync="TRUE">5.676659</eastBL>
          <northBL Sync="TRUE">60.550630</northBL>
          <southBL Sync="TRUE">60.224459</southBL>
        </GeoBndBox>
      </geoEle>
    </dataExt>
    <idAbs/>
    <searchKeys>
      <keyword>Historiske_kart_1856_60</keyword>
      <keyword>ImageServer</keyword>
    </searchKeys>
    <idPurp/>
    <idCredit/>
    <resConst>
      <Consts>
        <useLimit/>
      </Consts>
    </resConst>
  </dataIdInfo>
  <mdLang>
    <languageCode Sync="TRUE" value="nob"/>
    <countryCode Sync="TRUE" value="NOR"/>
  </mdLang>
  <refSysInfo>
    <RefSystem>
      <refSysID>
        <identCode Sync="TRUE" code="25832"/>
        <idCodeSpace Sync="TRUE">EPSG</idCodeSpace>
        <idVersion Sync="TRUE">5.1(4.0.0)</idVersion>
      </refSysID>
    </RefSystem>
  </refSysInfo>
  <spatRepInfo>
    <Georect>
      <cellGeo>
        <CellGeoCd Sync="TRUE" value="002"/>
      </cellGeo>
      <numDims Sync="TRUE">2</numDims>
      <tranParaAv Sync="TRUE">1</tranParaAv>
      <chkPtAv Sync="TRUE">0</chkPtAv>
      <cornerPts>
        <pos Sync="TRUE">286628.582000 6682639.723075</pos>
      </cornerPts>
      <cornerPts>
        <pos Sync="TRUE">286628.582000 6717429.138000</pos>
      </cornerPts>
      <cornerPts>
        <pos Sync="TRUE">316021.583918 6717429.138000</pos>
      </cornerPts>
      <cornerPts>
        <pos Sync="TRUE">316021.583918 6682639.723075</pos>
      </cornerPts>
      <centerPt>
        <pos Sync="TRUE">301325.082959 6700034.430537</pos>
      </centerPt>
      <axisDimension type="002">
        <dimSize Sync="TRUE">13813</dimSize>
        <dimResol>
          <value Sync="TRUE" uom="m">2.127923</value>
        </dimResol>
      </axisDimension>
      <axisDimension type="001">
        <dimSize Sync="TRUE">16349</dimSize>
        <dimResol>
          <value Sync="TRUE" uom="m">2.127923</value>
        </dimResol>
      </axisDimension>
      <ptInPixel>
        <PixOrientCd Sync="TRUE" value="001"/>
      </ptInPixel>
    </Georect>
  </spatRepInfo>
  <contInfo>
    <ImgDesc>
      <contentTyp>
        <ContentTypCd Sync="TRUE" value="001"/>
      </contentTyp>
      <covDim>
        <Band>
          <dimDescrp Sync="TRUE">Red</dimDescrp>
          <maxVal Sync="TRUE">255.000000</maxVal>
          <minVal Sync="TRUE">0.000000</minVal>
          <bitsPerVal Sync="TRUE">8</bitsPerVal>
          <valUnit>
            <UOM type="length"/>
          </valUnit>
        </Band>
        <Band>
          <dimDescrp Sync="TRUE">Green</dimDescrp>
          <maxVal Sync="TRUE">255.000000</maxVal>
          <minVal Sync="TRUE">0.000000</minVal>
          <bitsPerVal Sync="TRUE">8</bitsPerVal>
          <valUnit>
            <UOM type="length"/>
          </valUnit>
        </Band>
        <Band>
          <dimDescrp Sync="TRUE">Blue</dimDescrp>
          <maxVal Sync="TRUE">255.000000</maxVal>
          <minVal Sync="TRUE">0.000000</minVal>
          <bitsPerVal Sync="TRUE">8</bitsPerVal>
          <valUnit>
            <UOM type="length"/>
          </valUnit>
        </Band>
      </covDim>
    </ImgDesc>
  </contInfo>
  <mdDateSt Sync="TRUE">20230116</mdDateSt>
</metadata>
